BEGIN:VCALENDAR
VERSION:2.0
PRODID:-//wp-events-plugin.com//7.2.3.1//EN
TZID:Europe/Vienna
X-WR-TIMEZONE:Europe/Vienna
BEGIN:VEVENT
UID:69@imsalzatal.at
DTSTART:20220923T130000Z
DTEND:20220923T170000Z
DTSTAMP:20220524T070522Z
URL:https://imsalzatal.at/kurse/strudelkurs-september-2022/
SUMMARY:Strudelkurs - AUSGEBUCHT
DESCRIPTION:Ein neues Kursangebot steht in den Startlöchern:\n"STRUDELKURS
 " unter der Reihe IM SALZATAL mit Eva Maria Lipp\n\nKursinhalt:\nJede Fül
 le gut in eine feine Strudelhaut gefüllt und goldbraun sowie knusprig geb
 acken ist eine Versuchung wert.\nPikant und süß\, aber auch in der Formg
 ebung variabel ist unser Angebot.\nDer Strudelteig ist die Grundlage\, wel
 che doch so ganz einfach ist.\n\nDieser Kurs ist bereits AUSGEBUCHT.\nSoll
 ten Sie dennoch buchen\, schreiben wir Sie sehr gerne auf die Wartliste.\n
 Sie werden sofort verständigt sobald ein Kursplatz frei wird.\n\n&nbsp\;\
 n\n&nbsp\;\n\n&nbsp\;
ATTACH;FMTTYPE=image/jpeg:https://i0.wp.com/imsalzatal.at/wp-content/uploa
 ds/2020/09/A-1-41-scaled.jpg?fit=2560%2C1707&ssl=1
LOCATION:\, \, 
GEO:47.70836;15.21694
X-APPLE-STRUCTURED-LOCATION;VALUE=URI;X-ADDRESS=\, ;X-APPLE-RADIUS=100;X-TI
 TLE=:geo:47.70836,15.21694
END:VEVENT
END:VCALENDAR