BEGIN:VCALENDAR
VERSION:2.0
PRODID:-//wp-events-plugin.com//7.2.3.1//EN
TZID:Europe/Vienna
X-WR-TIMEZONE:Europe/Vienna
BEGIN:VEVENT
UID:56@imsalzatal.at
DTSTART:20211015T150000Z
DTEND:20211015T190000Z
DTSTAMP:20210721T084922Z
URL:https://imsalzatal.at/kurse/striezel-fruechtebrot-oktober-2021/
SUMMARY:Striezel & Früchtebrot - Oktober 2021
DESCRIPTION:Gebäcke mit großer Tradition – Allerheiligenstriezel und Fr
 üchtebrote\nFreitag\, 15. Oktober 2021\n15.00 – 19.00 Uhr\nAlle guten W
 ünsche an den/die Beschenkten werden in Flechtgebäcke hineingeflochten u
 nd somit ist der Allerheiligenstriezel als Geschenk an\ndie Patenkinder ei
 n wunderbares Glücksgeschenk.
ATTACH;FMTTYPE=image/jpeg:https://i0.wp.com/imsalzatal.at/wp-content/uploa
 ds/2018/10/12.10-53.jpg?fit=5184%2C3456&ssl=1
LOCATION:\, \, 
GEO:47.70939613161172;15.218232880456526
X-APPLE-STRUCTURED-LOCATION;VALUE=URI;X-ADDRESS=\, ;X-APPLE-RADIUS=100;X-TI
 TLE=:geo:47.70939613161172,15.218232880456526
END:VEVENT
END:VCALENDAR