BEGIN:VCALENDAR
VERSION:2.0
PRODID:-//wp-events-plugin.com//7.2.3.1//EN
TZID:Europe/Vienna
X-WR-TIMEZONE:Europe/Vienna
BEGIN:VEVENT
UID:68@imsalzatal.at
DTSTART:20220506T130000Z
DTEND:20220506T170000Z
DTSTAMP:20220126T072633Z
URL:https://imsalzatal.at/kurse/nudeln-selbstgemacht-mai-2022/
SUMMARY:Nudeln selbstgemacht - WARTELISTE
DESCRIPTION:Ein neues Kursangebot steht in den Startlöchern:\n"NUDELN SELB
 STGEMACHT" unter der Reihe IM SALZATAL mit Eva Maria Lipp\nDieser Kurs ist
  ausgebucht!\nSehr gerne können Sie einen Platz buchen.\nWir werden Sie a
 uf die Warteliste schreiben und sofort verständigen\, wenn ein Kursplatz 
 frei wird!\n\n&nbsp\;\n\n&nbsp\;
ATTACH;FMTTYPE=image/jpeg:https://i0.wp.com/imsalzatal.at/wp-content/uploa
 ds/2021/12/1-2-scaled.jpg?fit=2560%2C1440&ssl=1
LOCATION:\, \, 
GEO:47.70836;15.21694
X-APPLE-STRUCTURED-LOCATION;VALUE=URI;X-ADDRESS=\, ;X-APPLE-RADIUS=100;X-TI
 TLE=:geo:47.70836,15.21694
END:VEVENT
END:VCALENDAR