BEGIN:VCALENDAR
VERSION:2.0
PRODID:-//wp-events-plugin.com//7.2.3.1//EN
TZID:Europe/Vienna
X-WR-TIMEZONE:Europe/Vienna
BEGIN:VEVENT
UID:81@imsalzatal.at
DTSTART:20230304T130000Z
DTEND:20230304T170000Z
DTSTAMP:20230206T074425Z
URL:https://imsalzatal.at/kurse/nudelkurs-2-maerz-2023/
SUMMARY:Nudelkurs (2) - RESTPLÄTZE
DESCRIPTION:Nudelkurs (2):\n\nNudel ist nicht gleich Nudel!\nSelbstgemachte
 s besticht durch Geschmack\, Geruch und Aussehen.\n\nDie nächste Nudelpar
 ty kommt bestimmt und dann wird aber g’scheid aufgetischt.\n\n&nbsp\;
ATTACH;FMTTYPE=image/jpeg:https://i0.wp.com/imsalzatal.at/wp-content/uploa
 ds/2022/05/1-65-scaled.jpg?fit=2560%2C1707&ssl=1
END:VEVENT
END:VCALENDAR