BEGIN:VCALENDAR
VERSION:2.0
PRODID:-//wp-events-plugin.com//7.2.3.1//EN
TZID:Europe/Vienna
X-WR-TIMEZONE:Europe/Vienna
BEGIN:VEVENT
UID:66@imsalzatal.at
DTSTART:20220507T070000Z
DTEND:20220507T110000Z
DTSTAMP:20211211T152228Z
URL:https://imsalzatal.at/kurse/milchprodukte-mai-2022/
SUMMARY:Milchprodukte - Mai 2022
DESCRIPTION:Milchprodukte Hausgemacht\n\n\nSamstag\, 7. Mai 2022\n09.00 –
  13.00 Uhr\n\nBereiten sie selbst ihren Frischkäse\, Labtopfen\, Butter u
 nd wunderbare Zubereitungen daraus zu.\nMit kleinen Milchmengen große Wir
 kungen erzielen und Abwechslung am Käsehimmel schaffen.\n\n&nbsp\;\n\n
ATTACH;FMTTYPE=image/jpeg:https://i0.wp.com/imsalzatal.at/wp-content/uploa
 ds/2021/12/1-48-scaled-e1639321226734.jpg?fit=2560%2C640&ssl=1
LOCATION:\, \, 
GEO:47.70836;15.21694
X-APPLE-STRUCTURED-LOCATION;VALUE=URI;X-ADDRESS=\, ;X-APPLE-RADIUS=100;X-TI
 TLE=:geo:47.70836,15.21694
END:VEVENT
END:VCALENDAR