BEGIN:VCALENDAR
VERSION:2.0
PRODID:-//wp-events-plugin.com//7.2.3.1//EN
TZID:Europe/Vienna
X-WR-TIMEZONE:Europe/Vienna
BEGIN:VEVENT
UID:67@imsalzatal.at
DTSTART:20221111T130000Z
DTEND:20221111T170000Z
DTSTAMP:20211212T092309Z
URL:https://imsalzatal.at/kurse/krapfenbackkurs-november-2022/
SUMMARY:Krapfenbackkurs - November 2022
DESCRIPTION:Was gibt es Originelleres als genau zum Faschingsbeginn 2022 Kr
 apfen zu backen.\nNeben den allseits bekannten und beliebten Bauern – un
 d Faschingskrapfen werden auch sehr außergewöhnliche Krapfen bei diesem 
 Kurs vorgestellt und natürlich gemeinsam gebacken.
ATTACH;FMTTYPE=image/jpeg:https://i0.wp.com/imsalzatal.at/wp-content/uploa
 ds/2021/11/1-103-scaled.jpg?fit=2560%2C1707&ssl=1
LOCATION:\, \, 
GEO:47.70836;15.21694
X-APPLE-STRUCTURED-LOCATION;VALUE=URI;X-ADDRESS=\, ;X-APPLE-RADIUS=100;X-TI
 TLE=:geo:47.70836,15.21694
END:VEVENT
END:VCALENDAR