BEGIN:VCALENDAR
VERSION:2.0
PRODID:-//wp-events-plugin.com//7.2.3.1//EN
TZID:Europe/Vienna
X-WR-TIMEZONE:Europe/Vienna
BEGIN:VEVENT
UID:60@imsalzatal.at
DTSTART:20211112T150000Z
DTEND:20211112T190000Z
DTSTAMP:20210209T082151Z
URL:https://imsalzatal.at/kurse/krapfenbackkurs-november-2021/
SUMMARY:Krapfenbackkurs - November 2021
DESCRIPTION:Erster KRAPFENBACKKURS unter der Reihe IM SALZATAL\nRechtzeitig
  zum Faschingsbeginn 2021 veranstalten wir für alle "Krapfenfans" einen h
 errlichen KRAPFENBACKKURS mit Eva Maria Lipp im Landhaus in Greith\n\n&nbs
 p\;
ATTACH;FMTTYPE=image/jpeg:https://i0.wp.com/imsalzatal.at/wp-content/uploa
 ds/2021/02/12.2-26-1-scaled.jpg?fit=2560%2C1707&ssl=1
LOCATION:\, \, 
GEO:47.70836;15.216939599999932
X-APPLE-STRUCTURED-LOCATION;VALUE=URI;X-ADDRESS=\, ;X-APPLE-RADIUS=100;X-TI
 TLE=:geo:47.70836,15.216939599999932
END:VEVENT
END:VCALENDAR