BEGIN:VCALENDAR
VERSION:2.0
PRODID:-//wp-events-plugin.com//7.2.3.1//EN
TZID:Europe/Vienna
X-WR-TIMEZONE:Europe/Vienna
BEGIN:VEVENT
UID:71@imsalzatal.at
DTSTART:20221112T070000Z
DTEND:20221112T110000Z
DTSTAMP:20221107T063549Z
URL:https://imsalzatal.at/kurse/keksebackkurs-november-2022/
SUMMARY:Keksebackkurs - WARTELISTE
DESCRIPTION:\nDer Duft von Weihnachtskeksen versüßt uns die Adventzeit\n\
 nSamstag\, 12.11.2022\n\n9.00 - 13.00 Uhr (Kurs I) - AUSGEBUCHT\n15.00 - 1
 9.00 Uhr (Kurs II) - AUSGEBUCHT\n\nSie verwöhnen Ihre Lieben und Gäste g
 erne mit besonderen kulinarischen Freuden?\nSie möchten einmal andere ode
 r "neue" Kekse auf ihrem Weihnachtsteller servieren?\n\nHausgemacht mit be
 sten Zutaten ist auch hier angesagt und handgemacht ist unsere Stärke.
ATTACH;FMTTYPE=image/jpeg:https://i0.wp.com/imsalzatal.at/wp-content/uploa
 ds/2021/12/Spitzbuben-7.jpg?fit=1600%2C1065&ssl=1
LOCATION:\, \, 
GEO:47.70836;15.21694
X-APPLE-STRUCTURED-LOCATION;VALUE=URI;X-ADDRESS=\, ;X-APPLE-RADIUS=100;X-TI
 TLE=:geo:47.70836,15.21694
END:VEVENT
END:VCALENDAR