BEGIN:VCALENDAR
VERSION:2.0
PRODID:-//wp-events-plugin.com//7.2.3.1//EN
TZID:Europe/Vienna
X-WR-TIMEZONE:Europe/Vienna
BEGIN:VEVENT
UID:59@imsalzatal.at
DTSTART:20211126T090000Z
DTEND:20211126T190000Z
DTSTAMP:20211119T211640Z
URL:https://imsalzatal.at/kurse/keksebackkurs-november-2021/
SUMMARY:Keksebackkurs - ABGESAGT
DESCRIPTION:Der Duft von Weihnachtskeksen versüßt uns die Adventzeit\nSie
  verwöhnen Ihre Lieben und Gäste gerne mit besonderen kulinarischen Freu
 den?\nSie möchten einmal andere oder "neue" Kekse auf ihrem Weihnachtstel
 ler servieren?\n\nHausgemacht mit besten Zutaten ist auch hier angesagt un
 d handgemacht ist unsere Stärke.\n\nKurs I    09.00 - 13.00 Uhr\nKurs I
 I   15.00 - 19.00 Uhr\n\nDieser Kurs musste leider (wegen dem aktuellen 
 österreichweiten Lockdown) ABGESAGT werden!\n\n&nbsp\;
ATTACH;FMTTYPE=image/jpeg:https://i0.wp.com/imsalzatal.at/wp-content/uploa
 ds/2019/10/Kekse-1.jpg?fit=5208%2C3463&ssl=1
LOCATION:\, \, 
GEO:47.70836;15.216939599999932
X-APPLE-STRUCTURED-LOCATION;VALUE=URI;X-ADDRESS=\, ;X-APPLE-RADIUS=100;X-TI
 TLE=:geo:47.70836,15.216939599999932
END:VEVENT
END:VCALENDAR