BEGIN:VCALENDAR
VERSION:2.0
PRODID:-//wp-events-plugin.com//7.2.3.1//EN
TZID:Europe/Vienna
X-WR-TIMEZONE:Europe/Vienna
BEGIN:VEVENT
UID:63@imsalzatal.at
DTSTART:20220716T110000Z
DTEND:20220716T170000Z
DTSTAMP:20210721T085322Z
URL:https://imsalzatal.at/kurse/jodeltag-juli-2022/
SUMMARY:Jodeltag - Juli 2022
DESCRIPTION:"Wia a Wossa - leise &amp\; kraftvoll"\nDas ist unser Motto fü
 r den 7. Jodeltag unter der Reihe IM SALZATAL mit Olivia Koland.\n\nJodler
  sind leise &amp\; Wasser ist leise\nJodler sind kraftvoll &amp\; Wasser i
 st kraftvoll\nJodler erwecken Lebensfreude &amp\; Wasser erweckt Lebensfre
 ude\n\nSo machen wir uns beim 7. Jodeltag auf der Suche nach Lebensfreude\
 , das uns die Jodler und das Wasser an diesem Tag bestimmt schenken werden
 .\n\n&nbsp\;
ATTACH;FMTTYPE=image/jpeg:https://i0.wp.com/imsalzatal.at/wp-content/uploa
 ds/2021/07/15.7-42-scaled.jpg?fit=2560%2C1707&ssl=1
LOCATION:\, \, 
GEO:47.70836;15.21694
X-APPLE-STRUCTURED-LOCATION;VALUE=URI;X-ADDRESS=\, ;X-APPLE-RADIUS=100;X-TI
 TLE=:geo:47.70836,15.21694
END:VEVENT
END:VCALENDAR