BEGIN:VCALENDAR
VERSION:2.0
PRODID:-//wp-events-plugin.com//7.2.3.1//EN
TZID:Europe/Vienna
X-WR-TIMEZONE:Europe/Vienna
BEGIN:VEVENT
UID:58@imsalzatal.at
DTSTART;VALUE=DATE:20210911
DTEND;VALUE=DATE:20210912
DTSTAMP:20210209T082235Z
URL:https://imsalzatal.at/kurse/humorseminar-september-2021/
SUMMARY:Humorseminar - September 2021
DESCRIPTION:Humor ist eine so besonders kraftspendende Ressource!\nHumor er
 spart Energie\, fördert die Kommunikation und hilft uns in Konfliktsituat
 ionen.\n\nWas wir gerade jetzt so dringend brauchen\, um unsere Zuversicht
  und unser Wohlbefinden zu steigern\,\nist ein persönlicher und achtsamer
  Austausch\, soziale Nähe\, Spaß und Leichtigkeit!\n\nUnser erstes Humor
 seminar unter der Reihe IM SALZATAL mit Mag. (FH) Werner Gruber steht unte
 r dem Motto\n"DIE KRAFT DES HUMORS - Die heilsame und stärkende Wirkung v
 on Humor"\n
ATTACH;FMTTYPE=image/jpeg:https://i0.wp.com/imsalzatal.at/wp-content/uploa
 ds/2021/02/April-Mai-2020-10-1.jpg?fit=1599%2C1200&ssl=1
LOCATION:\, \, 
GEO:47.70836;15.216939599999932
X-APPLE-STRUCTURED-LOCATION;VALUE=URI;X-ADDRESS=\, ;X-APPLE-RADIUS=100;X-TI
 TLE=:geo:47.70836,15.216939599999932
END:VEVENT
END:VCALENDAR