BEGIN:VCALENDAR
VERSION:2.0
PRODID:-//wp-events-plugin.com//7.2.3.1//EN
TZID:Europe/Vienna
X-WR-TIMEZONE:Europe/Vienna
BEGIN:VEVENT
UID:62@imsalzatal.at
DTSTART:20220520T160000Z
DTEND:20220520T200000Z
DTSTAMP:20220502T061054Z
URL:https://imsalzatal.at/kurse/grillworkshop-mai-2022/
SUMMARY:Grillworkshop - Mai 2022
DESCRIPTION:Basis Grill Workshop schon absolviert? Dann geht’s weiter mit
  dem Fortgeschrittenen Kurs!\n\nEs gibt noch freie Plätze für Freitag\, 
 20. Mai 2022\n\nDer Grillkurs am Samstag\, 21. Mai 2022 ist bereits AUSGEB
 UCHT!\n\nSie sollten in diesem Kurs bereits Vorkenntnisse im direkten und 
 indirekten Grillen haben.\n\nIn diesem Kurs wird darauf Wert gelegt Ihr bi
 sheriges Können am Grill zu verbessern und zu erweitern. Produkte die Sie
  bislang noch nicht so oft am Grill hatten wie Zander\, Brot Rinderrücken
 steak und Topfenschmarrn rücken in den Fokus. Aber auch für Vegetarier i
 st das ein oder andere Gericht dabei.
ATTACH;FMTTYPE=image/jpeg:https://i0.wp.com/imsalzatal.at/wp-content/uploa
 ds/2021/06/11.6-20-scaled.jpg?fit=2560%2C1706&ssl=1
LOCATION:\, \, 
GEO:47.70939613161172;15.218232880456526
X-APPLE-STRUCTURED-LOCATION;VALUE=URI;X-ADDRESS=\, ;X-APPLE-RADIUS=100;X-TI
 TLE=:geo:47.70939613161172,15.218232880456526
END:VEVENT
END:VCALENDAR