BEGIN:VCALENDAR
VERSION:2.0
PRODID:-//wp-events-plugin.com//7.2.3.1//EN
TZID:Europe/Vienna
X-WR-TIMEZONE:Europe/Vienna
BEGIN:VEVENT
UID:53@imsalzatal.at
DTSTART:20210612T180000Z
DTEND:20210612T220000Z
DTSTAMP:20210601T165247Z
URL:https://imsalzatal.at/kurse/grillseminar-juni-2021/
SUMMARY:Grillseminar - Juni 2021
DESCRIPTION:BASISGRILLSEMINAR\n\nFreitag\, 11. Juni 2021 (AUSGEBUCHT)\n18.0
 0 Uhr – 22.00 Uhr\n&amp\;\nSamstag\, 12. Juni 2021 (RESTPLÄTZE)\n\n"Ric
 htig Grillen lernen"\nunter diesem Motto steht der Basis Grillkurs vom\nzw
 eifachen GRILL Staats- &amp\; Vizemeister\nROMAN KLAUSER\nwww.rentthecock.
 at\n\nWie heize ich richtig an?\nWie wird mein Fleisch saftig?\nWie grille
  ich eine Forelle?\nODER\nWarum kann ich einen Schokokuchen grillen?\n\nIn
  diesem Grillkurs werden diese Fragen beantwortet!
ATTACH;FMTTYPE=image/jpeg:https://i0.wp.com/imsalzatal.at/wp-content/uploa
 ds/2019/07/27.7-109.jpg?fit=4995%2C3329&ssl=1
LOCATION:\, \, 
GEO:47.70836;15.216939599999932
X-APPLE-STRUCTURED-LOCATION;VALUE=URI;X-ADDRESS=\, ;X-APPLE-RADIUS=100;X-TI
 TLE=:geo:47.70836,15.216939599999932
END:VEVENT
END:VCALENDAR