BEGIN:VCALENDAR
VERSION:2.0
PRODID:-//wp-events-plugin.com//7.2.3.1//EN
TZID:Europe/Vienna
X-WR-TIMEZONE:Europe/Vienna
BEGIN:VEVENT
UID:65@imsalzatal.at
DTSTART:20220507T130000Z
DTEND:20220507T170000Z
DTSTAMP:20220422T171030Z
URL:https://imsalzatal.at/kurse/fingerfood-mai-2022/
SUMMARY:Fingerfood - RESTPLÄTZE
DESCRIPTION:Appetithäppchen (Fingerfood) sind kleine Vorspeisen\, die vo
 r dem Essen gereicht werden\, um den Appetit zu wecken.[1]\n\nWer gerne 
 mit neuen Ideen und Rezepten seine Gäste überraschen möchte\,\nist bei 
 diesem neuen Kursangebot „FINGERFOOD“ unter der Reihe IM SALZATAL gena
 u richtig.\n\n&nbsp\;\n\n&nbsp\;
ATTACH;FMTTYPE=image/jpeg:https://i0.wp.com/imsalzatal.at/wp-content/uploa
 ds/2021/12/20210314_101544-scaled.jpg?fit=1440%2C2560&ssl=1
LOCATION:\, \, 
GEO:47.70836;15.21694
X-APPLE-STRUCTURED-LOCATION;VALUE=URI;X-ADDRESS=\, ;X-APPLE-RADIUS=100;X-TI
 TLE=:geo:47.70836,15.21694
END:VEVENT
END:VCALENDAR