BEGIN:VCALENDAR
VERSION:2.0
PRODID:-//wp-events-plugin.com//7.2.3.1//EN
TZID:Europe/Vienna
X-WR-TIMEZONE:Europe/Vienna
BEGIN:VEVENT
UID:70@imsalzatal.at
DTSTART:20220924T070000Z
DTEND:20220924T110000Z
DTSTAMP:20220916T033439Z
URL:https://imsalzatal.at/kurse/brotbackkurs-september-2022/
SUMMARY:Brotbackkurs - WARTELISTE
DESCRIPTION:Das tägliche Brot ist eines der wertvollsten Lebensmittel in d
 er menschlichen Ernährung.\nDurch die erhaltenen Tipps und Informationen 
 können Sie die Fehlschläge in der Produktion vermeiden\, Qualitätsmäng
 el durch Erfahrungsaustausch und Kennen der Ursachen in den Griff bekommen
 .\n\nBrotbackkurs I &amp\; Brotbackkurs II sind bereits ausgebucht!\nSehr 
 gerne schreiben wir Sie auf die Warteliste.\nSie werden sofort verständig
 t wenn ein Kursplatz frei wird!\n\n&nbsp\;
ATTACH;FMTTYPE=image/jpeg:https://i0.wp.com/imsalzatal.at/wp-content/uploa
 ds/2021/10/0-39-scaled.jpg?fit=2560%2C1707&ssl=1
LOCATION:\, \, 
GEO:47.70836;15.21694
X-APPLE-STRUCTURED-LOCATION;VALUE=URI;X-ADDRESS=\, ;X-APPLE-RADIUS=100;X-TI
 TLE=:geo:47.70836,15.21694
END:VEVENT
END:VCALENDAR