BEGIN:VCALENDAR
VERSION:2.0
PRODID:-//wp-events-plugin.com//7.2.3.1//EN
TZID:Europe/Vienna
X-WR-TIMEZONE:Europe/Vienna
BEGIN:VEVENT
UID:57@imsalzatal.at
DTSTART:20211016T150000Z
DTEND:20211016T190000Z
DTSTAMP:20210629T044712Z
URL:https://imsalzatal.at/kurse/brotbackkurs-oktober-2021/
SUMMARY:Brotbackkurs - Oktober - WARTELISTE
DESCRIPTION:\nBrot ist nicht gleich Brot\nSamstag\, 16. Oktober 2021\n09.00
  – 13.00 Uhr (AUSGEBUCHT!)\n15.00 - 19.00 Uhr (AUSGEBUCHT!)\n\nEs wurde 
 bereits eine WARTELISTE angelegt!\n\nDas tägliche Brot ist eines der wert
 vollsten Lebensmittel in der menschlichen Ernährung.\nDurch die erhaltene
 n Tipps und Informationen können Sie die Fehlschläge in der Produktion v
 ermeiden\, Qualitätsmängel durch Erfahrungsaustausch und Kennen der Ursa
 chen in den Griff bekommen.\n\nBrot und Gebäck zu backen\, soll eine Freu
 de und der Stolz der Hausfrau sein.\n\nWenn Sie buchen\, schreiben wir Sie
  sehr gerne auf unsere WARTELISTE\n\n\n\n\n\n&nbsp\;\n\n\n\n\n\n\n\n\n\n
ATTACH;FMTTYPE=image/jpeg:https://i0.wp.com/imsalzatal.at/wp-content/uploa
 ds/2020/09/A-1-34-scaled.jpg?fit=2560%2C1707&ssl=1
LOCATION:\, \, 
GEO:47.70836;15.216939599999932
X-APPLE-STRUCTURED-LOCATION;VALUE=URI;X-ADDRESS=\, ;X-APPLE-RADIUS=100;X-TI
 TLE=:geo:47.70836,15.216939599999932
END:VEVENT
END:VCALENDAR