BEGIN:VCALENDAR
VERSION:2.0
PRODID:-//wp-events-plugin.com//7.2.3.1//EN
TZID:Europe/Vienna
X-WR-TIMEZONE:Europe/Vienna
BEGIN:VEVENT
UID:52@imsalzatal.at
DTSTART:20210703T130000Z
DTEND:20210703T200000Z
DTSTAMP:20210507T055042Z
URL:https://imsalzatal.at/kurse/alte-lieder-jodler-mai-2021/
SUMMARY:Alte Lieder & Jodler - Juli 2021
DESCRIPTION:Der 6. Jodeltag steht diesmal unter dem Motto "Alte Lieder &amp
 \; Jodler"\n\nUnsere Referentin Olivia Koland bringt uns diesmal nicht nur
  Jodler\, sondern auch alte Lieder in das wunderschöne Mariazellerland mi
 t.\n\nNach dem Erlernen dieser Lieder und Jodler treten wir eine gemeinsam
 e Busfahrt mit dem Oldtimerbus zum Gatshaus Lechnerbauer an.\n\nAchtung!\n
 Begrenzte Teilnehmeranzahl!
ATTACH;FMTTYPE=image/jpeg:https://i0.wp.com/imsalzatal.at/wp-content/uploa
 ds/2020/08/IMG-20200725-WA0001_1597337409564.jpg?fit=1200%2C1600&ssl=1
LOCATION:\, \, 
GEO:47.70836;15.216939599999932
X-APPLE-STRUCTURED-LOCATION;VALUE=URI;X-ADDRESS=\, ;X-APPLE-RADIUS=100;X-TI
 TLE=:geo:47.70836,15.216939599999932
END:VEVENT
END:VCALENDAR